BEGIN:VCALENDAR
VERSION:2.0
PRODID:-//Plone.org//NONSGML plone.app.event//EN
X-WR-TIMEZONE:Europe/Rome
BEGIN:VEVENT
SUMMARY:Monitoring membrane filtration towards process optimization. Membr
 ane performance\, water reuse and resource recovery
DTSTART;TZID=Europe/Rome;VALUE=DATE-TIME:20221103T110000
DTEND;TZID=Europe/Rome;VALUE=DATE-TIME:20221103T130000
DTSTAMP;VALUE=DATE-TIME:20260425T223251Z
UID:08712769e4a6479eab25c81df83e7b34@dicam.unibo.it
CREATED;VALUE=DATE-TIME:20221102T114522Z
DESCRIPTION:Dr. Luca Fortunato\, Water Desalination and Reuse Center\, Kin
 g Abdullah University of Science and Technology\, KAUST\, Saudi Arabia
LAST-MODIFIED;VALUE=DATE-TIME:20221102T114644Z
URL:https://dicam.unibo.it/it/eventi/monitoring-membrane-filtration-toward
 s-process-optimization-membrane-performance-water-reuse-and-resource-recov
 ery
END:VEVENT
BEGIN:VTIMEZONE
TZID:Europe/Rome
X-LIC-LOCATION:Europe/Rome
BEGIN:STANDARD
DTSTART;VALUE=DATE-TIME:20221030T020000
TZNAME:CET
TZOFFSETFROM:+0200
TZOFFSETTO:+0100
END:STANDARD
END:VTIMEZONE
END:VCALENDAR
