BEGIN:VCALENDAR
VERSION:2.0
PRODID:-//Plone.org//NONSGML plone.app.event//EN
X-WR-TIMEZONE:Europe/Rome
BEGIN:VEVENT
SUMMARY:MuRiCo7
DTSTART;TZID=Europe/Rome;VALUE=DATE-TIME:20211124T090000
DTEND;TZID=Europe/Rome;VALUE=DATE-TIME:20211126T160000
DTSTAMP;VALUE=DATE-TIME:20260425T062304Z
UID:d5234f4e309c4aed9d2c5e5e8a38a52e@dicam.unibo.it
CREATED;VALUE=DATE-TIME:20211123T101735Z
DESCRIPTION:Mechanics Of Masonry Structures Strengthened With Composite Ma
 terials - Online conference
LAST-MODIFIED;VALUE=DATE-TIME:20211123T101837Z
URL:https://dicam.unibo.it/it/eventi/murico7
END:VEVENT
BEGIN:VTIMEZONE
TZID:Europe/Rome
X-LIC-LOCATION:Europe/Rome
BEGIN:STANDARD
DTSTART;VALUE=DATE-TIME:20211031T020000
TZNAME:CET
TZOFFSETFROM:+0200
TZOFFSETTO:+0100
END:STANDARD
END:VTIMEZONE
END:VCALENDAR
