BEGIN:VCALENDAR
VERSION:2.0
PRODID:-//Plone.org//NONSGML plone.app.event//EN
X-WR-TIMEZONE:Europe/Rome
BEGIN:VEVENT
SUMMARY:NATURAL HAZARDS IN A RAPIDLY CHANGING HUMAN-DOMINATED WORLD
DTSTART;TZID=Europe/Rome;VALUE=DATE-TIME:20240627T113000
DTEND;TZID=Europe/Rome;VALUE=DATE-TIME:20240627T133000
DTSTAMP;VALUE=DATE-TIME:20260421T061056Z
UID:92a7939c7d7d4c48b5f4604fb25c122f@dicam.unibo.it
CREATED;VALUE=DATE-TIME:20240527T090650Z
DESCRIPTION:Prof. GIULIANO DI BALDASSARRE
LAST-MODIFIED;VALUE=DATE-TIME:20240527T091005Z
URL:https://dicam.unibo.it/it/eventi/natural-hazards-in-a-rapidly-changing
 -human-dominated-world
END:VEVENT
BEGIN:VTIMEZONE
TZID:Europe/Rome
X-LIC-LOCATION:Europe/Rome
BEGIN:DAYLIGHT
DTSTART;VALUE=DATE-TIME:20240331T030000
TZNAME:CEST
TZOFFSETFROM:+0100
TZOFFSETTO:+0200
END:DAYLIGHT
END:VTIMEZONE
END:VCALENDAR
