BEGIN:VCALENDAR
VERSION:2.0
PRODID:-//Plone.org//NONSGML plone.app.event//EN
X-WR-TIMEZONE:Europe/Rome
BEGIN:VEVENT
SUMMARY:New innovative possibilities of alkali-activated materials in wate
 r treatment
DTSTART;TZID=Europe/Rome;VALUE=DATE-TIME:20230605T130000
DTEND;TZID=Europe/Rome;VALUE=DATE-TIME:20230605T170000
DTSTAMP;VALUE=DATE-TIME:20260421T061235Z
UID:611108c738894035b704ce4c5025b57c@dicam.unibo.it
CREATED;VALUE=DATE-TIME:20230517T072720Z
DESCRIPTION:Dr. Tero Luukkonen\, University of Oulu
LAST-MODIFIED;VALUE=DATE-TIME:20230517T093617Z
URL:https://dicam.unibo.it/it/eventi/new-innovative-possibilities-of-alkal
 i-activated-materials-in-water-treatment
END:VEVENT
BEGIN:VTIMEZONE
TZID:Europe/Rome
X-LIC-LOCATION:Europe/Rome
BEGIN:DAYLIGHT
DTSTART;VALUE=DATE-TIME:20230326T030000
TZNAME:CEST
TZOFFSETFROM:+0100
TZOFFSETTO:+0200
END:DAYLIGHT
END:VTIMEZONE
END:VCALENDAR
