BEGIN:VCALENDAR
VERSION:2.0
PRODID:-//Plone.org//NONSGML plone.app.event//EN
X-WR-TIMEZONE:Europe/Rome
BEGIN:VEVENT
SUMMARY:Notte europea dei ricercatori
DTSTART;TZID=Europe/Rome;VALUE=DATE-TIME:20150925T163000
DTEND;TZID=Europe/Rome;VALUE=DATE-TIME:20150925T220000
DTSTAMP;VALUE=DATE-TIME:20260421T093700Z
UID:b697ca7bf14e4b2598a28f240f7697cc@dicam.unibo.it
CREATED;VALUE=DATE-TIME:20150917T065441Z
LAST-MODIFIED;VALUE=DATE-TIME:20150917T065501Z
URL:https://dicam.unibo.it/it/eventi/notte-europea-dei-ricercatori
END:VEVENT
BEGIN:VTIMEZONE
TZID:Europe/Rome
X-LIC-LOCATION:Europe/Rome
BEGIN:DAYLIGHT
DTSTART;VALUE=DATE-TIME:20150329T030000
TZNAME:CEST
TZOFFSETFROM:+0100
TZOFFSETTO:+0200
END:DAYLIGHT
END:VTIMEZONE
END:VCALENDAR
