BEGIN:VCALENDAR
VERSION:2.0
PRODID:-//Plone.org//NONSGML plone.app.event//EN
X-WR-TIMEZONE:Europe/Rome
BEGIN:VEVENT
SUMMARY:NTNU-UNIBO cross-fertilization webinar
DTSTART;TZID=Europe/Rome;VALUE=DATE-TIME:20201106T140000
DTEND;TZID=Europe/Rome;VALUE=DATE-TIME:20201106T173000
DTSTAMP;VALUE=DATE-TIME:20260424T233200Z
UID:42d4c8f6d5324dde8035b763bd1c2f73@dicam.unibo.it
CREATED;VALUE=DATE-TIME:20201029T085122Z
DESCRIPTION:In collaboration with Filippo Berto\, Department of Mechanical
  and Industrial Engineering\, Norwegian University of Science and Technolo
 gy (NTNU)
LAST-MODIFIED;VALUE=DATE-TIME:20201029T085756Z
URL:https://dicam.unibo.it/it/eventi/ntnu-unibo-cross-fertilization-webina
 r
END:VEVENT
BEGIN:VTIMEZONE
TZID:Europe/Rome
X-LIC-LOCATION:Europe/Rome
BEGIN:STANDARD
DTSTART;VALUE=DATE-TIME:20201025T020000
TZNAME:CET
TZOFFSETFROM:+0200
TZOFFSETTO:+0100
END:STANDARD
END:VTIMEZONE
END:VCALENDAR
