BEGIN:VCALENDAR
VERSION:2.0
PRODID:-//Plone.org//NONSGML plone.app.event//EN
X-WR-TIMEZONE:Europe/Rome
BEGIN:VEVENT
SUMMARY:Numerical Methodology for the High-Fidelity Simulation of Out-of-P
 lane Behavior in Masonry Walls subjected to Seismic Loads
DTSTART;TZID=Europe/Rome;VALUE=DATE-TIME:20240926T143000
DTEND;TZID=Europe/Rome;VALUE=DATE-TIME:20240926T163000
DTSTAMP;VALUE=DATE-TIME:20260421T045340Z
UID:ff3d35482f814e3a8b37be91e9cbd351@dicam.unibo.it
CREATED;VALUE=DATE-TIME:20240910T085740Z
DESCRIPTION:Amirhossein (Amir) Ghezelbash\, PhD Candidate\, Delft Universi
 ty of Technology
LAST-MODIFIED;VALUE=DATE-TIME:20240910T085859Z
URL:https://dicam.unibo.it/it/eventi/numerical-methodology-for-the-high-fi
 delity-simulation-of-out-of-plane-behavior-in-masonry-walls-subjected-to-s
 eismic-loads
END:VEVENT
BEGIN:VTIMEZONE
TZID:Europe/Rome
X-LIC-LOCATION:Europe/Rome
BEGIN:DAYLIGHT
DTSTART;VALUE=DATE-TIME:20240331T030000
TZNAME:CEST
TZOFFSETFROM:+0100
TZOFFSETTO:+0200
END:DAYLIGHT
END:VTIMEZONE
END:VCALENDAR
