BEGIN:VCALENDAR
VERSION:2.0
PRODID:-//Plone.org//NONSGML plone.app.event//EN
X-WR-TIMEZONE:Europe/Rome
BEGIN:VEVENT
SUMMARY:OMC2015 - Offshore Mediterranean Conference & Exhibition
DTSTART;TZID=Europe/Rome;VALUE=DATE-TIME:20150325T000000
DTEND;TZID=Europe/Rome;VALUE=DATE-TIME:20150327T000000
DTSTAMP;VALUE=DATE-TIME:20260421T061120Z
UID:d1e6349ff65d42578ee3f2fa664e203f@dicam.unibo.it
CREATED;VALUE=DATE-TIME:20141118T070036Z
LAST-MODIFIED;VALUE=DATE-TIME:20250623T104003Z
URL:https://dicam.unibo.it/it/eventi/omc2015-offshore-mediterranean-confer
 ence-exhibition
END:VEVENT
BEGIN:VTIMEZONE
TZID:Europe/Rome
X-LIC-LOCATION:Europe/Rome
BEGIN:STANDARD
DTSTART;VALUE=DATE-TIME:20141026T020000
TZNAME:CET
TZOFFSETFROM:+0200
TZOFFSETTO:+0100
END:STANDARD
END:VTIMEZONE
END:VCALENDAR
