BEGIN:VCALENDAR
VERSION:2.0
PRODID:-//Plone.org//NONSGML plone.app.event//EN
X-WR-TIMEZONE:Europe/Rome
BEGIN:VEVENT
SUMMARY:OPEN-DAY: incontro di avvicinamento all’Ingegneria Edile
DTSTART;TZID=Europe/Rome;VALUE=DATE-TIME:20190410T150000
DTEND;TZID=Europe/Rome;VALUE=DATE-TIME:20190410T180000
DTSTAMP;VALUE=DATE-TIME:20260426T054238Z
UID:475a451d195f49ef88cf4be9c6ddb5a1@dicam.unibo.it
CREATED;VALUE=DATE-TIME:20190207T101006Z
LAST-MODIFIED;VALUE=DATE-TIME:20190207T101153Z
URL:https://dicam.unibo.it/it/eventi/open-day-incontro-di-avvicinamento-al
 l2019ingegneria-edile
END:VEVENT
BEGIN:VTIMEZONE
TZID:Europe/Rome
X-LIC-LOCATION:Europe/Rome
BEGIN:DAYLIGHT
DTSTART;VALUE=DATE-TIME:20190331T030000
TZNAME:CEST
TZOFFSETFROM:+0100
TZOFFSETTO:+0200
END:DAYLIGHT
END:VTIMEZONE
END:VCALENDAR
