BEGIN:VCALENDAR
VERSION:2.0
PRODID:-//Plone.org//NONSGML plone.app.event//EN
X-WR-TIMEZONE:Europe/Rome
BEGIN:VEVENT
SUMMARY:Open day - Ingegneria Edile\, Ravenna
DTSTART;TZID=Europe/Rome;VALUE=DATE-TIME:20160503T100000
DTEND;TZID=Europe/Rome;VALUE=DATE-TIME:20160503T173000
DTSTAMP;VALUE=DATE-TIME:20260421T093748Z
UID:225e973d18a849d1bd2af5ffadeed96c@dicam.unibo.it
CREATED;VALUE=DATE-TIME:20160418T134933Z
DESCRIPTION:Il Corso di Laurea in Ingegneria Edile del Campus di Ravenna a
 pre le sue porte.
LAST-MODIFIED;VALUE=DATE-TIME:20160418T134951Z
URL:https://dicam.unibo.it/it/eventi/open-day-ingegneria-edile-ravenna
END:VEVENT
BEGIN:VTIMEZONE
TZID:Europe/Rome
X-LIC-LOCATION:Europe/Rome
BEGIN:DAYLIGHT
DTSTART;VALUE=DATE-TIME:20160327T030000
TZNAME:CEST
TZOFFSETFROM:+0100
TZOFFSETTO:+0200
END:DAYLIGHT
END:VTIMEZONE
END:VCALENDAR
