BEGIN:VCALENDAR
VERSION:2.0
PRODID:-//Plone.org//NONSGML plone.app.event//EN
X-WR-TIMEZONE:Europe/Rome
BEGIN:VEVENT
SUMMARY:orientamento per studenti dei Cds internazionali: off-shore engine
 ering 
DTSTART;TZID=Europe/Rome;VALUE=DATE-TIME:20151125T140000
DTEND;TZID=Europe/Rome;VALUE=DATE-TIME:20151125T160000
DTSTAMP;VALUE=DATE-TIME:20260421T075943Z
UID:14e5800dec354ffe9782a82173646939@dicam.unibo.it
CREATED;VALUE=DATE-TIME:20151123T084950Z
DESCRIPTION:Iniziativa di presentazione dei nuovi curricula off-shore atti
 vati per i CdLM in Civil Engineering\, Ingegneria Chimica – STEM e Ingeg
 neria per l’Ambiente ed il Territorio – ERE.
LAST-MODIFIED;VALUE=DATE-TIME:20151123T085150Z
URL:https://dicam.unibo.it/it/eventi/orientamento-per-studenti-dei-cds-int
 ernazionali-off-shore-engineering
END:VEVENT
BEGIN:VTIMEZONE
TZID:Europe/Rome
X-LIC-LOCATION:Europe/Rome
BEGIN:STANDARD
DTSTART;VALUE=DATE-TIME:20151025T020000
TZNAME:CET
TZOFFSETFROM:+0200
TZOFFSETTO:+0100
END:STANDARD
END:VTIMEZONE
END:VCALENDAR
