BEGIN:VCALENDAR
VERSION:2.0
PRODID:-//Plone.org//NONSGML plone.app.event//EN
X-WR-TIMEZONE:Europe/Rome
BEGIN:VEVENT
SUMMARY:Innovations and Implementations in Earthquake Engineering Research
  at the University of Montenegro – Overview of Scientific-research Proje
 cts
DTSTART;TZID=Europe/Rome;VALUE=DATE-TIME:20240215T143000
DTEND;TZID=Europe/Rome;VALUE=DATE-TIME:20240215T180000
DTSTAMP;VALUE=DATE-TIME:20260421T061056Z
UID:931ecba64b984e9a8f14356f1bf9836e@dicam.unibo.it
CREATED;VALUE=DATE-TIME:20240214T103455Z
DESCRIPTION:Dr. Jelena Pejovic\, University of Montenegro\, Faculty of Civ
 il Engineering\,\nPodgorica\, Montenegro
LAST-MODIFIED;VALUE=DATE-TIME:20240214T103743Z
URL:https://dicam.unibo.it/it/eventi/overview-of-scientific-research-proje
 cts-1
END:VEVENT
BEGIN:VTIMEZONE
TZID:Europe/Rome
X-LIC-LOCATION:Europe/Rome
BEGIN:STANDARD
DTSTART;VALUE=DATE-TIME:20231029T020000
TZNAME:CET
TZOFFSETFROM:+0200
TZOFFSETTO:+0100
END:STANDARD
END:VTIMEZONE
END:VCALENDAR
