BEGIN:VCALENDAR
VERSION:2.0
PRODID:-//Plone.org//NONSGML plone.app.event//EN
X-WR-TIMEZONE:Europe/Rome
BEGIN:VEVENT
SUMMARY:Paraporto del Battiferro
DTSTART;TZID=Europe/Rome;VALUE=DATE-TIME:20230321T104500
DTEND;TZID=Europe/Rome;VALUE=DATE-TIME:20230321T130000
DTSTAMP;VALUE=DATE-TIME:20260421T060930Z
UID:99004fade28d43d49043b62d564224fa@dicam.unibo.it
CREATED;VALUE=DATE-TIME:20230320T081122Z
DESCRIPTION:Metodologie avanzate di rilievo e digitalizzazione in 3D per n
 uove prospettive di gestione e fruizione
LAST-MODIFIED;VALUE=DATE-TIME:20230320T081240Z
URL:https://dicam.unibo.it/it/eventi/paraporto-del-battiferro
END:VEVENT
BEGIN:VTIMEZONE
TZID:Europe/Rome
X-LIC-LOCATION:Europe/Rome
BEGIN:STANDARD
DTSTART;VALUE=DATE-TIME:20221030T020000
TZNAME:CET
TZOFFSETFROM:+0200
TZOFFSETTO:+0100
END:STANDARD
END:VTIMEZONE
END:VCALENDAR
