BEGIN:VCALENDAR
VERSION:2.0
PRODID:-//Plone.org//NONSGML plone.app.event//EN
X-WR-TIMEZONE:Europe/Rome
BEGIN:VEVENT
SUMMARY:Pier Luigi Nervi - Gli stadi per il calcio
DTSTART;TZID=Europe/Rome;VALUE=DATE-TIME:20141114T000000
DTEND;TZID=Europe/Rome;VALUE=DATE-TIME:20150109T000000
DTSTAMP;VALUE=DATE-TIME:20260421T044010Z
UID:5898cbaaecd04c35bc4c54f73a628452@dicam.unibo.it
CREATED;VALUE=DATE-TIME:20141110T095914Z
LAST-MODIFIED;VALUE=DATE-TIME:20141110T100023Z
URL:https://dicam.unibo.it/it/eventi/pier-luigi-nervi-gli-stadi-per-il-cal
 cio
END:VEVENT
BEGIN:VTIMEZONE
TZID:Europe/Rome
X-LIC-LOCATION:Europe/Rome
BEGIN:STANDARD
DTSTART;VALUE=DATE-TIME:20141026T020000
TZNAME:CET
TZOFFSETFROM:+0200
TZOFFSETTO:+0100
END:STANDARD
END:VTIMEZONE
END:VCALENDAR
