BEGIN:VCALENDAR
VERSION:2.0
PRODID:-//Plone.org//NONSGML plone.app.event//EN
X-WR-TIMEZONE:Europe/Rome
BEGIN:VEVENT
SUMMARY:PREVENZIONE ANTISISMICA DEL COSTRUITO - Resilienza indotta (via FR
 P/FRCM)\, isolamento alla base\, apporto dissipativo o esoscheletro Ricost
 ruzione post-sisma di beni architettonici
DTSTART;TZID=Europe/Rome;VALUE=DATE-TIME:20240125T090000
DTEND;TZID=Europe/Rome;VALUE=DATE-TIME:20240125T190000
DTSTAMP;VALUE=DATE-TIME:20260421T061334Z
UID:ec467efadd654d2fae64812faef151fa@dicam.unibo.it
CREATED;VALUE=DATE-TIME:20240109T101908Z
DESCRIPTION:Prof Angelo Di Tommaso Co-Chairman Prof Giovanni Castellazzi
LAST-MODIFIED;VALUE=DATE-TIME:20240109T102256Z
URL:https://dicam.unibo.it/it/eventi/prevenzione-antisismica-del-costruito
 -resilienza-indotta-via-frp-frcm-isolamento-alla-base-apporto-dissipativo-
 o-esoscheletro-ricostruzione-post-sisma-di-beni-architettonici
END:VEVENT
BEGIN:VTIMEZONE
TZID:Europe/Rome
X-LIC-LOCATION:Europe/Rome
BEGIN:STANDARD
DTSTART;VALUE=DATE-TIME:20231029T020000
TZNAME:CET
TZOFFSETFROM:+0200
TZOFFSETTO:+0100
END:STANDARD
END:VTIMEZONE
END:VCALENDAR
