BEGIN:VCALENDAR
VERSION:2.0
PRODID:-//Plone.org//NONSGML plone.app.event//EN
X-WR-TIMEZONE:Europe/Rome
BEGIN:VEVENT
SUMMARY:Process intensification in Pressure Swing Adsorption Plants
DTSTART;TZID=Europe/Rome;VALUE=DATE-TIME:20230316T100000
DTEND;TZID=Europe/Rome;VALUE=DATE-TIME:20230316T110000
DTSTAMP;VALUE=DATE-TIME:20260421T060930Z
UID:3b86ee47cab6439eb4ff703cc714cd98@dicam.unibo.it
CREATED;VALUE=DATE-TIME:20230313T092841Z
DESCRIPTION:Dr. Joachim Guderian\,  Münster University of Applied Science
 s\, Germany
LAST-MODIFIED;VALUE=DATE-TIME:20230313T092841Z
URL:https://dicam.unibo.it/it/eventi/process-intensification-in-pressure-s
 wing-adsorption-plants
END:VEVENT
BEGIN:VTIMEZONE
TZID:Europe/Rome
X-LIC-LOCATION:Europe/Rome
BEGIN:STANDARD
DTSTART;VALUE=DATE-TIME:20221030T020000
TZNAME:CET
TZOFFSETFROM:+0200
TZOFFSETTO:+0100
END:STANDARD
END:VTIMEZONE
END:VCALENDAR
