BEGIN:VCALENDAR
VERSION:2.0
PRODID:-//Plone.org//NONSGML plone.app.event//EN
X-WR-TIMEZONE:Europe/Rome
BEGIN:VEVENT
SUMMARY:Architetture di bambù progettate in Italia
DTSTART;TZID=Europe/Rome;VALUE=DATE-TIME:20230509T150000
DTEND;TZID=Europe/Rome;VALUE=DATE-TIME:20230509T170000
DTSTAMP;VALUE=DATE-TIME:20260421T061723Z
UID:9f62c6feebdb4a65bcfc6d751bd2e7ac@dicam.unibo.it
CREATED;VALUE=DATE-TIME:20230508T083834Z
DESCRIPTION:Architetto Mauricio Càrdenas La Verde
LAST-MODIFIED;VALUE=DATE-TIME:20230508T083834Z
URL:https://dicam.unibo.it/it/eventi/prof-luisa-molari
END:VEVENT
BEGIN:VTIMEZONE
TZID:Europe/Rome
X-LIC-LOCATION:Europe/Rome
BEGIN:DAYLIGHT
DTSTART;VALUE=DATE-TIME:20230326T030000
TZNAME:CEST
TZOFFSETFROM:+0100
TZOFFSETTO:+0200
END:DAYLIGHT
END:VTIMEZONE
END:VCALENDAR
