BEGIN:VCALENDAR
VERSION:2.0
PRODID:-//Plone.org//NONSGML plone.app.event//EN
X-WR-TIMEZONE:Europe/Rome
BEGIN:VEVENT
SUMMARY:Prof. Livingston: "Membranes for separating molecules: where are w
 e\, and where are we going?"
DTSTART;VALUE=DATE:20170622
DTEND;VALUE=DATE:20170623
DTSTAMP;VALUE=DATE-TIME:20260425T232438Z
UID:9b8607f5432e438886b4791f53d089ef@dicam.unibo.it
CREATED;VALUE=DATE-TIME:20170512T081851Z
DESCRIPTION:DICAM DISTINGUISHED LECTURES 2017
LAST-MODIFIED;VALUE=DATE-TIME:20170530T094910Z
URL:https://dicam.unibo.it/it/eventi/prof.-livingston-membranes-for-separa
 ting-molecules-where-are-we-and-where-are-we-going
END:VEVENT
END:VCALENDAR
