BEGIN:VCALENDAR
VERSION:2.0
PRODID:-//Plone.org//NONSGML plone.app.event//EN
X-WR-TIMEZONE:Europe/Rome
BEGIN:VEVENT
SUMMARY:Recruiting day 25 ottobre 2017
DTSTART;VALUE=DATE:20171025
DTEND;VALUE=DATE:20171026
DTSTAMP;VALUE=DATE-TIME:20260424T053700Z
UID:40a09ec58d0f4fb38ac3cdd59b75cabe@dicam.unibo.it
CREATED;VALUE=DATE-TIME:20171005T095333Z
DESCRIPTION:L'evento è un'occasione di incontro tra i giovani laureandi/l
 aureati dei corsi di studio dell’Ateneo di Bologna con realtà imprendit
 oriali. Iscriviti online e carica il tuo CV.
LAST-MODIFIED;VALUE=DATE-TIME:20171005T095504Z
URL:https://dicam.unibo.it/it/eventi/recruiting-day-25-ottobre-2017
END:VEVENT
END:VCALENDAR
