BEGIN:VCALENDAR
VERSION:2.0
PRODID:-//Plone.org//NONSGML plone.app.event//EN
X-WR-TIMEZONE:Europe/Rome
BEGIN:VEVENT
SUMMARY:Renewable Energy and Offshore Structures: Geotechnical Engineering
  Challenges
DTSTART;TZID=Europe/Rome;VALUE=DATE-TIME:20201203T093000
DTEND;TZID=Europe/Rome;VALUE=DATE-TIME:20201203T110000
DTSTAMP;VALUE=DATE-TIME:20260425T015344Z
UID:e203a4c63ded478296fabffdd45d39e9@dicam.unibo.it
CREATED;VALUE=DATE-TIME:20201130T113750Z
DESCRIPTION:Seminario Ing. Emilio Nicolini (CATHIE Group - France and Ital
 y Engineering Manager)
LAST-MODIFIED;VALUE=DATE-TIME:20201130T113908Z
URL:https://dicam.unibo.it/it/eventi/renewable-energy-and-offshore-structu
 res-geotechnical-engineering-challenges
END:VEVENT
BEGIN:VTIMEZONE
TZID:Europe/Rome
X-LIC-LOCATION:Europe/Rome
BEGIN:STANDARD
DTSTART;VALUE=DATE-TIME:20201025T020000
TZNAME:CET
TZOFFSETFROM:+0200
TZOFFSETTO:+0100
END:STANDARD
END:VTIMEZONE
END:VCALENDAR
