BEGIN:VCALENDAR
VERSION:2.0
PRODID:-//Plone.org//NONSGML plone.app.event//EN
X-WR-TIMEZONE:Europe/Rome
BEGIN:VEVENT
SUMMARY:RILEM PIZZA
DTSTART;VALUE=DATE:20200120
DTEND;VALUE=DATE:20200121
DTSTAMP;VALUE=DATE-TIME:20260425T045230Z
UID:1264d35eb3d14d51aa7f551f2bad2b3b@dicam.unibo.it
CREATED;VALUE=DATE-TIME:20191206T082444Z
LAST-MODIFIED;VALUE=DATE-TIME:20191206T082513Z
URL:https://dicam.unibo.it/it/eventi/rilem-pizza
END:VEVENT
END:VCALENDAR
