BEGIN:VCALENDAR
VERSION:2.0
PRODID:-//Plone.org//NONSGML plone.app.event//EN
X-WR-TIMEZONE:Europe/Rome
BEGIN:VEVENT
SUMMARY:Roadshow 2015
DTSTART;TZID=Europe/Rome;VALUE=DATE-TIME:20150617T093000
DTEND;TZID=Europe/Rome;VALUE=DATE-TIME:20150617T160000
DTSTAMP;VALUE=DATE-TIME:20260421T061723Z
UID:9ce9ebb758d94e0eab77e7d66e2af039@dicam.unibo.it
CREATED;VALUE=DATE-TIME:20150603T052234Z
DESCRIPTION:Material Characterization
LAST-MODIFIED;VALUE=DATE-TIME:20150603T052345Z
URL:https://dicam.unibo.it/it/eventi/roadshow-2015
END:VEVENT
BEGIN:VTIMEZONE
TZID:Europe/Rome
X-LIC-LOCATION:Europe/Rome
BEGIN:DAYLIGHT
DTSTART;VALUE=DATE-TIME:20150329T030000
TZNAME:CEST
TZOFFSETFROM:+0100
TZOFFSETTO:+0200
END:DAYLIGHT
END:VTIMEZONE
END:VCALENDAR
