BEGIN:VCALENDAR
VERSION:2.0
PRODID:-//Plone.org//NONSGML plone.app.event//EN
X-WR-TIMEZONE:Europe/Rome
BEGIN:VEVENT
SUMMARY:Safety in Energy Transition and Processing System Digitalization
DTSTART;TZID=Europe/Rome;VALUE=DATE-TIME:20221129T100000
DTEND;TZID=Europe/Rome;VALUE=DATE-TIME:20221129T130000
DTSTAMP;VALUE=DATE-TIME:20260426T024135Z
UID:e96fb06343b64dddbe13b3999b819db6@dicam.unibo.it
CREATED;VALUE=DATE-TIME:20221125T083242Z
DESCRIPTION:Faisal Khan (Texas A&M University\, Texas\, USA
LAST-MODIFIED;VALUE=DATE-TIME:20221125T085243Z
URL:https://dicam.unibo.it/it/eventi/safety-in-energy-transition-and-proce
 ssing-system-digitalization-3
END:VEVENT
BEGIN:VTIMEZONE
TZID:Europe/Rome
X-LIC-LOCATION:Europe/Rome
BEGIN:STANDARD
DTSTART;VALUE=DATE-TIME:20221030T020000
TZNAME:CET
TZOFFSETFROM:+0200
TZOFFSETTO:+0100
END:STANDARD
END:VTIMEZONE
END:VCALENDAR
