BEGIN:VCALENDAR
VERSION:2.0
PRODID:-//Plone.org//NONSGML plone.app.event//EN
X-WR-TIMEZONE:Europe/Rome
BEGIN:VEVENT
SUMMARY:Scuola AIMAT e Cincominet - Leganti\, malte\, calcestruzzi e mater
 iali innovativi per costruire sostenibile
DTSTART;TZID=Europe/Rome;VALUE=DATE-TIME:20160912T123000
DTEND;TZID=Europe/Rome;VALUE=DATE-TIME:20160916T130000
DTSTAMP;VALUE=DATE-TIME:20260421T124849Z
UID:066c142d9b324bd5940746e8d389bd34@dicam.unibo.it
CREATED;VALUE=DATE-TIME:20160718T050927Z
LAST-MODIFIED;VALUE=DATE-TIME:20160718T051526Z
URL:https://dicam.unibo.it/it/eventi/scuola-aimat-e-cincominet-leganti-mal
 te-calcestruzzi-e-materiali-innovativi-per-costruire-sostenibile
END:VEVENT
BEGIN:VTIMEZONE
TZID:Europe/Rome
X-LIC-LOCATION:Europe/Rome
BEGIN:DAYLIGHT
DTSTART;VALUE=DATE-TIME:20160327T030000
TZNAME:CEST
TZOFFSETFROM:+0100
TZOFFSETTO:+0200
END:DAYLIGHT
END:VTIMEZONE
END:VCALENDAR
