BEGIN:VCALENDAR
VERSION:2.0
PRODID:-//Plone.org//NONSGML plone.app.event//EN
X-WR-TIMEZONE:Europe/Rome
BEGIN:VEVENT
SUMMARY:Selection of sustainable infrastructure projects in the water sect
 or through the Cost-Benefit Analysis (CBA)
DTSTART;TZID=Europe/Rome;VALUE=DATE-TIME:20230531T153000
DTEND;TZID=Europe/Rome;VALUE=DATE-TIME:20230531T173000
DTSTAMP;VALUE=DATE-TIME:20260421T061204Z
UID:2388f7f288fc46119b17a27f641cb57c@dicam.unibo.it
CREATED;VALUE=DATE-TIME:20230529T073450Z
DESCRIPTION:Dr. Giorgio Watschinger
LAST-MODIFIED;VALUE=DATE-TIME:20230529T074552Z
URL:https://dicam.unibo.it/it/eventi/selection-of-sustainable-infrastructu
 re-projects-in-the-water-sector-through-the-cost-benefit-analysis-cba
END:VEVENT
BEGIN:VTIMEZONE
TZID:Europe/Rome
X-LIC-LOCATION:Europe/Rome
BEGIN:DAYLIGHT
DTSTART;VALUE=DATE-TIME:20230326T030000
TZNAME:CEST
TZOFFSETFROM:+0100
TZOFFSETTO:+0200
END:DAYLIGHT
END:VTIMEZONE
END:VCALENDAR
