BEGIN:VCALENDAR
VERSION:2.0
PRODID:-//Plone.org//NONSGML plone.app.event//EN
X-WR-TIMEZONE:Europe/Rome
BEGIN:VEVENT
SUMMARY:Seminar Prof. Arvind Varma
DTSTART;VALUE=DATE:20170626
DTEND;VALUE=DATE:20170627
DTSTAMP;VALUE=DATE-TIME:20260424T072632Z
UID:dc9e126adfef46a1a1408d6a4ea3bd9e@dicam.unibo.it
CREATED;VALUE=DATE-TIME:20170623T072642Z
LAST-MODIFIED;VALUE=DATE-TIME:20170623T073451Z
URL:https://dicam.unibo.it/it/eventi/seminar-prof.-arvind-varma
END:VEVENT
END:VCALENDAR
