BEGIN:VCALENDAR
VERSION:2.0
PRODID:-//Plone.org//NONSGML plone.app.event//EN
X-WR-TIMEZONE:Europe/Rome
BEGIN:VEVENT
SUMMARY:Seminari Dr. Abbiati e Dr. Broccardo
DTSTART;TZID=Europe/Rome;VALUE=DATE-TIME:20181119T120000
DTEND;TZID=Europe/Rome;VALUE=DATE-TIME:20181119T140000
DTSTAMP;VALUE=DATE-TIME:20260424T115822Z
UID:dea1ae41f34b44d6a0f21a980dea9f80@dicam.unibo.it
CREATED;VALUE=DATE-TIME:20181022T131623Z
LAST-MODIFIED;VALUE=DATE-TIME:20181022T132006Z
URL:https://dicam.unibo.it/it/eventi/seminari-dr.-abbiati-e-dr.-broccardo
END:VEVENT
BEGIN:VTIMEZONE
TZID:Europe/Rome
X-LIC-LOCATION:Europe/Rome
BEGIN:STANDARD
DTSTART;VALUE=DATE-TIME:20181028T020000
TZNAME:CET
TZOFFSETFROM:+0200
TZOFFSETTO:+0100
END:STANDARD
END:VTIMEZONE
END:VCALENDAR
