BEGIN:VCALENDAR
VERSION:2.0
PRODID:-//Plone.org//NONSGML plone.app.event//EN
X-WR-TIMEZONE:Europe/Rome
BEGIN:VEVENT
SUMMARY:Seminari prof. Bottazzi: "Trasporto pubblico locale e trasporto so
 stenibile: il contributo di TPER"
DTSTART;TZID=Europe/Rome;VALUE=DATE-TIME:20151117T140000
DTEND;TZID=Europe/Rome;VALUE=DATE-TIME:20151217T133000
DTSTAMP;VALUE=DATE-TIME:20260421T100141Z
UID:5ade3cd2708e4886b4a736ebacc99fb7@dicam.unibo.it
CREATED;VALUE=DATE-TIME:20151113T114410Z
LAST-MODIFIED;VALUE=DATE-TIME:20151113T114434Z
URL:https://dicam.unibo.it/it/eventi/seminari-prof.-bottazzi-trasporto-pub
 blico-locale-e-trasporto-sostenibile-il-contributo-di-tper
END:VEVENT
BEGIN:VTIMEZONE
TZID:Europe/Rome
X-LIC-LOCATION:Europe/Rome
BEGIN:STANDARD
DTSTART;VALUE=DATE-TIME:20151025T020000
TZNAME:CET
TZOFFSETFROM:+0200
TZOFFSETTO:+0100
END:STANDARD
END:VTIMEZONE
END:VCALENDAR
