BEGIN:VCALENDAR
VERSION:2.0
PRODID:-//Plone.org//NONSGML plone.app.event//EN
X-WR-TIMEZONE:Europe/Rome
BEGIN:VEVENT
SUMMARY:Seminari Prof. Felipe de Barros
DTSTART;VALUE=DATE:20190417
DTEND;VALUE=DATE:20190418
DTSTAMP;VALUE=DATE-TIME:20260424T181835Z
UID:cf5effa2e0024ba3b74d4beb7a3c9dd8@dicam.unibo.it
CREATED;VALUE=DATE-TIME:20190416T054612Z
LAST-MODIFIED;VALUE=DATE-TIME:20190416T054703Z
URL:https://dicam.unibo.it/it/eventi/seminari-prof.-felipe-de-barros
END:VEVENT
END:VCALENDAR
