BEGIN:VCALENDAR
VERSION:2.0
PRODID:-//Plone.org//NONSGML plone.app.event//EN
X-WR-TIMEZONE:Europe/Rome
BEGIN:VEVENT
SUMMARY:Seminari Prof. Kersten e Prof. Westerhof
DTSTART;TZID=Europe/Rome;VALUE=DATE-TIME:20151127T110000
DTEND;TZID=Europe/Rome;VALUE=DATE-TIME:20151127T130000
DTSTAMP;VALUE=DATE-TIME:20260421T093415Z
UID:d8932425db564cc2bd3ac7263b025362@dicam.unibo.it
CREATED;VALUE=DATE-TIME:20151123T100133Z
LAST-MODIFIED;VALUE=DATE-TIME:20151123T100159Z
URL:https://dicam.unibo.it/it/eventi/seminari-prof.-kersten-e-prof.-wester
 hof
END:VEVENT
BEGIN:VTIMEZONE
TZID:Europe/Rome
X-LIC-LOCATION:Europe/Rome
BEGIN:STANDARD
DTSTART;VALUE=DATE-TIME:20151025T020000
TZNAME:CET
TZOFFSETFROM:+0200
TZOFFSETTO:+0100
END:STANDARD
END:VTIMEZONE
END:VCALENDAR
