BEGIN:VCALENDAR
VERSION:2.0
PRODID:-//Plone.org//NONSGML plone.app.event//EN
X-WR-TIMEZONE:Europe/Rome
BEGIN:VEVENT
SUMMARY:Seminari prof. Torlak: lectures to undergraduate and PhD students 
 covering
DTSTART;VALUE=DATE:20180709
DTEND;VALUE=DATE:20180714
DTSTAMP;VALUE=DATE-TIME:20260426T045855Z
UID:cabb5002dff24e7ab12ec3112035477d@dicam.unibo.it
CREATED;VALUE=DATE-TIME:20180605T070323Z
LAST-MODIFIED;VALUE=DATE-TIME:20180605T070708Z
URL:https://dicam.unibo.it/it/eventi/seminari-prof.-torlak-lectures-to-und
 ergraduate-and-phd-students-covering
END:VEVENT
END:VCALENDAR
