BEGIN:VCALENDAR
VERSION:2.0
PRODID:-//Plone.org//NONSGML plone.app.event//EN
X-WR-TIMEZONE:Europe/Rome
BEGIN:VEVENT
SUMMARY:Seminari Prof. Zdeněk P. Bažant
DTSTART;VALUE=DATE:20160701
DTEND;VALUE=DATE:20160702
DTSTAMP;VALUE=DATE-TIME:20260421T123523Z
UID:d83c8f3f203f41eb8f517ac029f10503@dicam.unibo.it
CREATED;VALUE=DATE-TIME:20160613T090401Z
LAST-MODIFIED;VALUE=DATE-TIME:20160613T090445Z
URL:https://dicam.unibo.it/it/eventi/seminari-prof.-zdenek-p.-bazant
END:VEVENT
END:VCALENDAR
