BEGIN:VCALENDAR
VERSION:2.0
PRODID:-//Plone.org//NONSGML plone.app.event//EN
X-WR-TIMEZONE:Europe/Rome
BEGIN:VEVENT
SUMMARY:Seminario 2016 sulle risorse bibliografiche di Ateneo
DTSTART;TZID=Europe/Rome;VALUE=DATE-TIME:20160210T093000
DTEND;TZID=Europe/Rome;VALUE=DATE-TIME:20160218T130000
DTSTAMP;VALUE=DATE-TIME:20260421T094016Z
UID:3cbb365c4df245c5915fc6de3fc897ef@dicam.unibo.it
CREATED;VALUE=DATE-TIME:20160128T112235Z
DESCRIPTION:Le iniziative della Biblioteca Interdipartimentale di Ingegner
 ia e Architettura.
LAST-MODIFIED;VALUE=DATE-TIME:20160128T113337Z
URL:https://dicam.unibo.it/it/eventi/seminario-2016-sulle-risorse-bibliogr
 afiche-di-ateneo
END:VEVENT
BEGIN:VTIMEZONE
TZID:Europe/Rome
X-LIC-LOCATION:Europe/Rome
BEGIN:STANDARD
DTSTART;VALUE=DATE-TIME:20151025T020000
TZNAME:CET
TZOFFSETFROM:+0200
TZOFFSETTO:+0100
END:STANDARD
END:VTIMEZONE
END:VCALENDAR
