BEGIN:VCALENDAR
VERSION:2.0
PRODID:-//Plone.org//NONSGML plone.app.event//EN
X-WR-TIMEZONE:Europe/Rome
BEGIN:VEVENT
SUMMARY:Seminario “Innovazione in ambito chimico: perché e come brevett
 are”
DTSTART;VALUE=DATE:20160527
DTEND;VALUE=DATE:20160528
DTSTAMP;VALUE=DATE-TIME:20260421T094552Z
UID:930b139d6b624ed2895d6bc5512f2ce9@dicam.unibo.it
CREATED;VALUE=DATE-TIME:20160518T115135Z
LAST-MODIFIED;VALUE=DATE-TIME:20160518T115326Z
URL:https://dicam.unibo.it/it/eventi/seminario-201cinnovazione-in-ambito-c
 himico-perche-e-come-brevettare201d
END:VEVENT
END:VCALENDAR
