BEGIN:VCALENDAR
VERSION:2.0
PRODID:-//Plone.org//NONSGML plone.app.event//EN
X-WR-TIMEZONE:Europe/Rome
BEGIN:VEVENT
SUMMARY:ANNULLATO: Seminario Arch. PhD Sciarretta: "Masonry structures exp
 osed to fire and high temperatures"
DTSTART;TZID=Europe/Rome;VALUE=DATE-TIME:20190513T140000
DTEND;TZID=Europe/Rome;VALUE=DATE-TIME:20190513T160000
DTSTAMP;VALUE=DATE-TIME:20260426T020442Z
UID:a1de5cf1aa854df6b86996839fe735ff@dicam.unibo.it
CREATED;VALUE=DATE-TIME:20190429T115032Z
LAST-MODIFIED;VALUE=DATE-TIME:20190513T073252Z
URL:https://dicam.unibo.it/it/eventi/seminario-arch.-phd-sciarretta-masonr
 y-structures-exposed-to-fire-and-high-temperatures
END:VEVENT
BEGIN:VTIMEZONE
TZID:Europe/Rome
X-LIC-LOCATION:Europe/Rome
BEGIN:DAYLIGHT
DTSTART;VALUE=DATE-TIME:20190331T030000
TZNAME:CEST
TZOFFSETFROM:+0100
TZOFFSETTO:+0200
END:DAYLIGHT
END:VTIMEZONE
END:VCALENDAR
