BEGIN:VCALENDAR
VERSION:2.0
PRODID:-//Plone.org//NONSGML plone.app.event//EN
X-WR-TIMEZONE:Europe/Rome
BEGIN:VEVENT
SUMMARY:Seminario "Costa Concordia in Mugello"
DTSTART;TZID=Europe/Rome;VALUE=DATE-TIME:20150131T160000
DTEND;TZID=Europe/Rome;VALUE=DATE-TIME:20150131T180000
DTSTAMP;VALUE=DATE-TIME:20260421T043016Z
UID:e49e2900d2d547bda5ed0b3255ed2684@dicam.unibo.it
CREATED;VALUE=DATE-TIME:20150130T065429Z
LAST-MODIFIED;VALUE=DATE-TIME:20150130T065609Z
URL:https://dicam.unibo.it/it/eventi/seminario-costa-concordia-in-mugello
END:VEVENT
BEGIN:VTIMEZONE
TZID:Europe/Rome
X-LIC-LOCATION:Europe/Rome
BEGIN:STANDARD
DTSTART;VALUE=DATE-TIME:20141026T020000
TZNAME:CET
TZOFFSETFROM:+0200
TZOFFSETTO:+0100
END:STANDARD
END:VTIMEZONE
END:VCALENDAR
