BEGIN:VCALENDAR
VERSION:2.0
PRODID:-//Plone.org//NONSGML plone.app.event//EN
X-WR-TIMEZONE:Europe/Rome
BEGIN:VEVENT
SUMMARY:Seminario del Prof. Aires-Barros: "Aqueous two-phase systems: a ne
 w platform for antibodies purification"
DTSTART;VALUE=DATE:20160511
DTEND;VALUE=DATE:20160512
DTSTAMP;VALUE=DATE-TIME:20260421T094708Z
UID:3a8ccbe3807f4e58814acf148f7dfa67@dicam.unibo.it
CREATED;VALUE=DATE-TIME:20160427T094748Z
LAST-MODIFIED;VALUE=DATE-TIME:20160427T094810Z
URL:https://dicam.unibo.it/it/eventi/seminario-del-prof.-aires-barros-aque
 ous-two-phase-systems-a-new-platform-for-antibodies-purification
END:VEVENT
END:VCALENDAR
