BEGIN:VCALENDAR
VERSION:2.0
PRODID:-//Plone.org//NONSGML plone.app.event//EN
X-WR-TIMEZONE:Europe/Rome
BEGIN:VEVENT
SUMMARY:Seminario del Prof. Kalamkarov:  "The use of Smart Composite Mater
 ials and Structures and Nano-composites in everyday life "
DTSTART;TZID=Europe/Rome;VALUE=DATE-TIME:20160405T180000
DTEND;TZID=Europe/Rome;VALUE=DATE-TIME:20160405T200000
DTSTAMP;VALUE=DATE-TIME:20260421T100141Z
UID:72514370bde64537a40b9a494b24e029@dicam.unibo.it
CREATED;VALUE=DATE-TIME:20160323T125418Z
LAST-MODIFIED;VALUE=DATE-TIME:20160323T125534Z
URL:https://dicam.unibo.it/it/eventi/seminario-del-prof.-kalamkarov-the-us
 e-of-smart-composite-materials-and-structures-and-nano-composites-in-every
 day-life
END:VEVENT
BEGIN:VTIMEZONE
TZID:Europe/Rome
X-LIC-LOCATION:Europe/Rome
BEGIN:DAYLIGHT
DTSTART;VALUE=DATE-TIME:20160327T030000
TZNAME:CEST
TZOFFSETFROM:+0100
TZOFFSETTO:+0200
END:DAYLIGHT
END:VTIMEZONE
END:VCALENDAR
