BEGIN:VCALENDAR
VERSION:2.0
PRODID:-//Plone.org//NONSGML plone.app.event//EN
X-WR-TIMEZONE:Europe/Rome
BEGIN:VEVENT
SUMMARY:Seminario del Prof. Majowiecki: "L’arte al limite dell’equilib
 rio: Architettura ed Efficienza strutturale"
DTSTART;VALUE=DATE:20160512
DTEND;VALUE=DATE:20160513
DTSTAMP;VALUE=DATE-TIME:20260421T100227Z
UID:80c9c36231af4504a92bc973995ef8de@dicam.unibo.it
CREATED;VALUE=DATE-TIME:20160509T104516Z
LAST-MODIFIED;VALUE=DATE-TIME:20160509T104640Z
URL:https://dicam.unibo.it/it/eventi/seminario-del-prof.-majowiecki-l2019a
 rte-al-limite-dell2019equilibrio-architettura-ed-efficienza-strutturale
END:VEVENT
END:VCALENDAR
