BEGIN:VCALENDAR
VERSION:2.0
PRODID:-//Plone.org//NONSGML plone.app.event//EN
X-WR-TIMEZONE:Europe/Rome
BEGIN:VEVENT
SUMMARY:Seminario del Prof. O’Connell: "Some Insights into Properties an
 d Processes with Balance Equations for Mass\, Energy\, and Entropy"
DTSTART;VALUE=DATE:20160520
DTEND;VALUE=DATE:20160521
DTSTAMP;VALUE=DATE-TIME:20260421T100141Z
UID:7f15b4b06f684546bb154205fd1a352e@dicam.unibo.it
CREATED;VALUE=DATE-TIME:20160509T103701Z
LAST-MODIFIED;VALUE=DATE-TIME:20160509T103730Z
URL:https://dicam.unibo.it/it/eventi/seminario-del-prof.-o2019connell-some
 -insights-into-properties-and-processes-with-balance-equations-for-mass-en
 ergy-and-entropy
END:VEVENT
END:VCALENDAR
