BEGIN:VCALENDAR
VERSION:2.0
PRODID:-//Plone.org//NONSGML plone.app.event//EN
X-WR-TIMEZONE:Europe/Rome
BEGIN:VEVENT
SUMMARY:Seminario Dott. Dimartino: "Chemical Engineering at the frontier w
 ith 3D printing and bioengineering "
DTSTART;TZID=Europe/Rome;VALUE=DATE-TIME:20150430T143000
DTEND;TZID=Europe/Rome;VALUE=DATE-TIME:20150430T163000
DTSTAMP;VALUE=DATE-TIME:20260421T061204Z
UID:653ea8fdd87d4cee862452187b25ada8@dicam.unibo.it
CREATED;VALUE=DATE-TIME:20150422T055540Z
LAST-MODIFIED;VALUE=DATE-TIME:20150422T055629Z
URL:https://dicam.unibo.it/it/eventi/seminario-dott.-dimartino-chemical-en
 gineering-at-the-frontier-with-3d-printing-and-bioengineering
END:VEVENT
BEGIN:VTIMEZONE
TZID:Europe/Rome
X-LIC-LOCATION:Europe/Rome
BEGIN:DAYLIGHT
DTSTART;VALUE=DATE-TIME:20150329T030000
TZNAME:CEST
TZOFFSETFROM:+0100
TZOFFSETTO:+0200
END:DAYLIGHT
END:VTIMEZONE
END:VCALENDAR
