BEGIN:VCALENDAR
VERSION:2.0
PRODID:-//Plone.org//NONSGML plone.app.event//EN
X-WR-TIMEZONE:Europe/Rome
BEGIN:VEVENT
SUMMARY:Seminario Dr. Antonsen: "Culture\, organization and safety. Indust
 rial and societal safety in Norway"
DTSTART;TZID=Europe/Rome;VALUE=DATE-TIME:20150609T150000
DTEND;TZID=Europe/Rome;VALUE=DATE-TIME:20150609T170000
DTSTAMP;VALUE=DATE-TIME:20260421T061335Z
UID:4dcdd8bf1db04c1cb367944eb398634c@dicam.unibo.it
CREATED;VALUE=DATE-TIME:20150603T081459Z
LAST-MODIFIED;VALUE=DATE-TIME:20150603T081526Z
URL:https://dicam.unibo.it/it/eventi/seminario-dr.-antonsen-culture-organi
 zation-and-safety.-industrial-and-societal-safety-in-norway
END:VEVENT
BEGIN:VTIMEZONE
TZID:Europe/Rome
X-LIC-LOCATION:Europe/Rome
BEGIN:DAYLIGHT
DTSTART;VALUE=DATE-TIME:20150329T030000
TZNAME:CEST
TZOFFSETFROM:+0100
TZOFFSETTO:+0200
END:DAYLIGHT
END:VTIMEZONE
END:VCALENDAR
