BEGIN:VCALENDAR
VERSION:2.0
PRODID:-//Plone.org//NONSGML plone.app.event//EN
X-WR-TIMEZONE:Europe/Rome
BEGIN:VEVENT
SUMMARY:Seminario Dr. Bacciocchi: "Higher-order Strong and Weak Formulatio
 ns for Arbitrarily Shaped Doubly-Curved Shell Structures"
DTSTART;VALUE=DATE:20180912
DTEND;VALUE=DATE:20180913
DTSTAMP;VALUE=DATE-TIME:20260424T062604Z
UID:2250c6f55b754f27b47b898ae817b19b@dicam.unibo.it
CREATED;VALUE=DATE-TIME:20180618T120051Z
LAST-MODIFIED;VALUE=DATE-TIME:20180618T120235Z
URL:https://dicam.unibo.it/it/eventi/seminario-dr.-bacciocchi-higher-order
 -strong-and-weak-formulations-for-arbitrarily-shaped-doubly-curved-shell-s
 tructures
END:VEVENT
END:VCALENDAR
