BEGIN:VCALENDAR
VERSION:2.0
PRODID:-//Plone.org//NONSGML plone.app.event//EN
X-WR-TIMEZONE:Europe/Rome
BEGIN:VEVENT
SUMMARY:Seminario Dr. Cano: "Electrochemical techniques for the assessment
  of metallic heritage conservation: in situ evaluation of patinas and coat
 ings"
DTSTART;TZID=Europe/Rome;VALUE=DATE-TIME:20151202T100000
DTEND;TZID=Europe/Rome;VALUE=DATE-TIME:20151202T120000
DTSTAMP;VALUE=DATE-TIME:20260421T080443Z
UID:fb2bbb3b7b874f2d89e2dd453469fbb4@dicam.unibo.it
CREATED;VALUE=DATE-TIME:20151126T111321Z
LAST-MODIFIED;VALUE=DATE-TIME:20151126T111400Z
URL:https://dicam.unibo.it/it/eventi/seminario-dr.-cano-electrochemical-te
 chniques-for-the-assessment-of-metallic-heritage-conservation-in-situ-eval
 uation-of-patinas-and-coatings
END:VEVENT
BEGIN:VTIMEZONE
TZID:Europe/Rome
X-LIC-LOCATION:Europe/Rome
BEGIN:STANDARD
DTSTART;VALUE=DATE-TIME:20151025T020000
TZNAME:CET
TZOFFSETFROM:+0200
TZOFFSETTO:+0100
END:STANDARD
END:VTIMEZONE
END:VCALENDAR
