BEGIN:VCALENDAR
VERSION:2.0
PRODID:-//Plone.org//NONSGML plone.app.event//EN
X-WR-TIMEZONE:Europe/Rome
BEGIN:VEVENT
SUMMARY:Seminario Dr. Cecinato: "Le geo-strutture energetiche dal punto di
  vista dell'ingegnere geotecnico"
DTSTART;TZID=Europe/Rome;VALUE=DATE-TIME:20170202T113000
DTEND;TZID=Europe/Rome;VALUE=DATE-TIME:20170202T133000
DTSTAMP;VALUE=DATE-TIME:20260423T150902Z
UID:8e6f52dfc69f4a7a8d296ed2258257ab@dicam.unibo.it
CREATED;VALUE=DATE-TIME:20170126T101453Z
LAST-MODIFIED;VALUE=DATE-TIME:20170126T101614Z
URL:https://dicam.unibo.it/it/eventi/seminario-dr.-cecinato-le-geo-struttu
 re-energetiche-dal-punto-di-vista-dellingegnere-geotecnico
END:VEVENT
BEGIN:VTIMEZONE
TZID:Europe/Rome
X-LIC-LOCATION:Europe/Rome
BEGIN:STANDARD
DTSTART;VALUE=DATE-TIME:20161030T020000
TZNAME:CET
TZOFFSETFROM:+0200
TZOFFSETTO:+0100
END:STANDARD
END:VTIMEZONE
END:VCALENDAR
