BEGIN:VCALENDAR
VERSION:2.0
PRODID:-//Plone.org//NONSGML plone.app.event//EN
X-WR-TIMEZONE:Europe/Rome
BEGIN:VEVENT
SUMMARY:Seminario Dr. Colombi: "Computational elastodynamics for large-sca
 le time dependent problems: study cases from seismology to structured mate
 rials"
DTSTART;TZID=Europe/Rome;VALUE=DATE-TIME:20171117T120000
DTEND;TZID=Europe/Rome;VALUE=DATE-TIME:20171117T140000
DTSTAMP;VALUE=DATE-TIME:20260425T015344Z
UID:0c0e5eb33c19428e9447026e21814efb@dicam.unibo.it
CREATED;VALUE=DATE-TIME:20170925T085104Z
LAST-MODIFIED;VALUE=DATE-TIME:20170925T085153Z
URL:https://dicam.unibo.it/it/eventi/seminario-dr.-colombi-computational-e
 lastodynamics-for-large-scale-time-dependent-problems-study-cases-from-sei
 smology-to-structured-materials
END:VEVENT
BEGIN:VTIMEZONE
TZID:Europe/Rome
X-LIC-LOCATION:Europe/Rome
BEGIN:STANDARD
DTSTART;VALUE=DATE-TIME:20171029T020000
TZNAME:CET
TZOFFSETFROM:+0200
TZOFFSETTO:+0100
END:STANDARD
END:VTIMEZONE
END:VCALENDAR
