BEGIN:VCALENDAR
VERSION:2.0
PRODID:-//Plone.org//NONSGML plone.app.event//EN
X-WR-TIMEZONE:Europe/Rome
BEGIN:VEVENT
SUMMARY:Seminario Dr. Daghia: "Keypoints on the identification and validat
 ion of physical-based material models"
DTSTART;TZID=Europe/Rome;VALUE=DATE-TIME:20150507T150000
DTEND;TZID=Europe/Rome;VALUE=DATE-TIME:20150507T170000
DTSTAMP;VALUE=DATE-TIME:20260421T061120Z
UID:04aa99973bb44d11990e75d9bc81a3d5@dicam.unibo.it
CREATED;VALUE=DATE-TIME:20150504T095721Z
LAST-MODIFIED;VALUE=DATE-TIME:20150504T095746Z
URL:https://dicam.unibo.it/it/eventi/seminario-dr.-daghia-keypoints-on-the
 -identification-and-validation-of-physical-based-material-models
END:VEVENT
BEGIN:VTIMEZONE
TZID:Europe/Rome
X-LIC-LOCATION:Europe/Rome
BEGIN:DAYLIGHT
DTSTART;VALUE=DATE-TIME:20150329T030000
TZNAME:CEST
TZOFFSETFROM:+0100
TZOFFSETTO:+0200
END:DAYLIGHT
END:VTIMEZONE
END:VCALENDAR
