BEGIN:VCALENDAR
VERSION:2.0
PRODID:-//Plone.org//NONSGML plone.app.event//EN
X-WR-TIMEZONE:Europe/Rome
BEGIN:VEVENT
SUMMARY:Seminario Dr. Domagoj: "Finite element model for buckling analysis
  of thin-walled beam-type structures"
DTSTART;VALUE=DATE:20161213
DTEND;VALUE=DATE:20161214
DTSTAMP;VALUE=DATE-TIME:20260421T142538Z
UID:c005a95971044a16abc3c2dd0881abf5@dicam.unibo.it
CREATED;VALUE=DATE-TIME:20161123T090345Z
LAST-MODIFIED;VALUE=DATE-TIME:20161123T092016Z
URL:https://dicam.unibo.it/it/eventi/seminario-dr.-domagoj-finite-element-
 model-for-buckling-analysis-of-thin-walled-beam-type-structures
END:VEVENT
END:VCALENDAR
