BEGIN:VCALENDAR
VERSION:2.0
PRODID:-//Plone.org//NONSGML plone.app.event//EN
X-WR-TIMEZONE:Europe/Rome
BEGIN:VEVENT
SUMMARY:Seminario Dr. Gonella: "Electronic traps for mechanical waves: a p
 iezo-enabled framework for tunable wave manipulation"
DTSTART;VALUE=DATE:20160715
DTEND;VALUE=DATE:20160716
DTSTAMP;VALUE=DATE-TIME:20260421T154735Z
UID:72eb433d1ca347169ed3a8dc2a53af7a@dicam.unibo.it
CREATED;VALUE=DATE-TIME:20160621T083444Z
LAST-MODIFIED;VALUE=DATE-TIME:20160621T083522Z
URL:https://dicam.unibo.it/it/eventi/seminario-dr.-gonella-electronic-trap
 s-for-mechanical-waves-a-piezo-enabled-framework-for-tunable-wave-manipula
 tion
END:VEVENT
END:VCALENDAR
