BEGIN:VCALENDAR
VERSION:2.0
PRODID:-//Plone.org//NONSGML plone.app.event//EN
X-WR-TIMEZONE:Europe/Rome
BEGIN:VEVENT
SUMMARY:Seminario Dr. Heilig: "Physical Property Data in Process Technolog
 y @ BASF - From Basic Chemicals to Complex Molecules"
DTSTART;TZID=Europe/Rome;VALUE=DATE-TIME:20150505T120000
DTEND;TZID=Europe/Rome;VALUE=DATE-TIME:20150505T140000
DTSTAMP;VALUE=DATE-TIME:20260421T060930Z
UID:72218ae1ad2c4266b62688fd6fd8f3e0@dicam.unibo.it
CREATED;VALUE=DATE-TIME:20150429T134209Z
LAST-MODIFIED;VALUE=DATE-TIME:20150429T134236Z
URL:https://dicam.unibo.it/it/eventi/seminario-dr.-heilig-physical-propert
 y-data-in-process-technology-basf-from-basic-chemicals-to-complex-molecule
 s
END:VEVENT
BEGIN:VTIMEZONE
TZID:Europe/Rome
X-LIC-LOCATION:Europe/Rome
BEGIN:DAYLIGHT
DTSTART;VALUE=DATE-TIME:20150329T030000
TZNAME:CEST
TZOFFSETFROM:+0100
TZOFFSETTO:+0200
END:DAYLIGHT
END:VTIMEZONE
END:VCALENDAR
